BEGIN:VCALENDAR
VERSION:2.0
PRODID:icalendar-ruby
CALSCALE:GREGORIAN
METHOD:PUBLISH
BEGIN:VEVENT
DTSTAMP:20260421T081536Z
UID:16-269994@paysonumc.org
DTSTART:20260507T200000Z
DTEND:20260507T213000Z
CLASS:PUBLIC
CREATED:20260420T234057
DESCRIPTION:
LAST-MODIFIED:20260420T234057
LOCATION:Noley's
SUMMARY:Ruth Circle
URL;VALUE=URI:https://paysonumc.org/events/ruth-circle/2026-05-07
END:VEVENT
END:VCALENDAR
